BEGIN:VCALENDAR
VERSION:2.0
PRODID:-//Fund the future - ECPv6.15.20//NONSGML v1.0//EN
CALSCALE:GREGORIAN
METHOD:PUBLISH
X-WR-CALNAME:Fund the future
X-ORIGINAL-URL:https://fundthefuture.web.ucu.org.uk
X-WR-CALDESC:Events for Fund the future
REFRESH-INTERVAL;VALUE=DURATION:PT1H
X-Robots-Tag:noindex
X-PUBLISHED-TTL:PT1H
BEGIN:VTIMEZONE
TZID:Europe/London
BEGIN:DAYLIGHT
TZOFFSETFROM:+0000
TZOFFSETTO:+0100
TZNAME:BST
DTSTART:20190331T010000
END:DAYLIGHT
BEGIN:STANDARD
TZOFFSETFROM:+0100
TZOFFSETTO:+0000
TZNAME:GMT
DTSTART:20191027T010000
END:STANDARD
BEGIN:DAYLIGHT
TZOFFSETFROM:+0000
TZOFFSETTO:+0100
TZNAME:BST
DTSTART:20200329T010000
END:DAYLIGHT
BEGIN:STANDARD
TZOFFSETFROM:+0100
TZOFFSETTO:+0000
TZNAME:GMT
DTSTART:20201025T010000
END:STANDARD
BEGIN:DAYLIGHT
TZOFFSETFROM:+0000
TZOFFSETTO:+0100
TZNAME:BST
DTSTART:20210328T010000
END:DAYLIGHT
BEGIN:STANDARD
TZOFFSETFROM:+0100
TZOFFSETTO:+0000
TZNAME:GMT
DTSTART:20211031T010000
END:STANDARD
END:VTIMEZONE
BEGIN:VEVENT
DTSTART;TZID=Europe/London:20200811T130000
DTEND;TZID=Europe/London:20200811T140000
DTSTAMP:20260419T175857
CREATED:20200724T113026Z
LAST-MODIFIED:20200821T120027Z
UID:8365-1597150800-1597154400@fundthefuture.web.ucu.org.uk
SUMMARY:Covid-19 and employment law\, including redundancies
DESCRIPTION:Speakers include leading employment law academics Michael Ford QC and Alan Bogg. \nWatch back:
URL:https://fundthefuture.web.ucu.org.uk/event/covid-19-and-employment-law/
LOCATION:Online
CATEGORIES:Branches
ATTACH;FMTTYPE=image/png:https://fundthefuture.web.ucu.org.uk/files/2020/07/covid-19-and-employment-law.png
END:VEVENT
END:VCALENDAR