BEGIN:VCALENDAR
VERSION:2.0
PRODID:-//Fund the future - ECPv6.15.20//NONSGML v1.0//EN
CALSCALE:GREGORIAN
METHOD:PUBLISH
X-WR-CALNAME:Fund the future
X-ORIGINAL-URL:https://fundthefuture.web.ucu.org.uk
X-WR-CALDESC:Events for Fund the future
REFRESH-INTERVAL;VALUE=DURATION:PT1H
X-Robots-Tag:noindex
X-PUBLISHED-TTL:PT1H
BEGIN:VTIMEZONE
TZID:Europe/London
BEGIN:DAYLIGHT
TZOFFSETFROM:+0000
TZOFFSETTO:+0100
TZNAME:BST
DTSTART:20190331T010000
END:DAYLIGHT
BEGIN:STANDARD
TZOFFSETFROM:+0100
TZOFFSETTO:+0000
TZNAME:GMT
DTSTART:20191027T010000
END:STANDARD
BEGIN:DAYLIGHT
TZOFFSETFROM:+0000
TZOFFSETTO:+0100
TZNAME:BST
DTSTART:20200329T010000
END:DAYLIGHT
BEGIN:STANDARD
TZOFFSETFROM:+0100
TZOFFSETTO:+0000
TZNAME:GMT
DTSTART:20201025T010000
END:STANDARD
BEGIN:DAYLIGHT
TZOFFSETFROM:+0000
TZOFFSETTO:+0100
TZNAME:BST
DTSTART:20210328T010000
END:DAYLIGHT
BEGIN:STANDARD
TZOFFSETFROM:+0100
TZOFFSETTO:+0000
TZNAME:GMT
DTSTART:20211031T010000
END:STANDARD
END:VTIMEZONE
BEGIN:VEVENT
DTSTART;TZID=Europe/London:20200813T180000
DTEND;TZID=Europe/London:20200813T190000
DTSTAMP:20260423T110155
CREATED:20200810T120859Z
LAST-MODIFIED:20200821T120211Z
UID:8560-1597341600-1597345200@fundthefuture.web.ucu.org.uk
SUMMARY:Don’t make education a victim of Covid-19
DESCRIPTION:Join UCU general secretary Jo Grady and guests on A-Level results day talking about the Covid-19 impact on our education system. \nFrom student results being downgraded\, job cuts\, increases to workload and casualisation\, through to concerns about returning to face-to-face learning\, join us to hear how we intend to use our Fund the Future campaign to bring all these concerns together to ensure education is not a victim of Covid-19. \nWatch back:
URL:https://fundthefuture.web.ucu.org.uk/event/dont-make-education-a-victim-of-covid/
LOCATION:Online
CATEGORIES:Open to all
ATTACH;FMTTYPE=image/png:https://fundthefuture.web.ucu.org.uk/files/2020/08/Don’t-make-education-a-victim-of-Covid-19.png
END:VEVENT
END:VCALENDAR