BEGIN:VCALENDAR
VERSION:2.0
PRODID:-//Fund the future - ECPv6.15.20//NONSGML v1.0//EN
CALSCALE:GREGORIAN
METHOD:PUBLISH
X-WR-CALNAME:Fund the future
X-ORIGINAL-URL:https://fundthefuture.web.ucu.org.uk
X-WR-CALDESC:Events for Fund the future
REFRESH-INTERVAL;VALUE=DURATION:PT1H
X-Robots-Tag:noindex
X-PUBLISHED-TTL:PT1H
BEGIN:VTIMEZONE
TZID:Europe/London
BEGIN:DAYLIGHT
TZOFFSETFROM:+0000
TZOFFSETTO:+0100
TZNAME:BST
DTSTART:20190331T010000
END:DAYLIGHT
BEGIN:STANDARD
TZOFFSETFROM:+0100
TZOFFSETTO:+0000
TZNAME:GMT
DTSTART:20191027T010000
END:STANDARD
BEGIN:DAYLIGHT
TZOFFSETFROM:+0000
TZOFFSETTO:+0100
TZNAME:BST
DTSTART:20200329T010000
END:DAYLIGHT
BEGIN:STANDARD
TZOFFSETFROM:+0100
TZOFFSETTO:+0000
TZNAME:GMT
DTSTART:20201025T010000
END:STANDARD
BEGIN:DAYLIGHT
TZOFFSETFROM:+0000
TZOFFSETTO:+0100
TZNAME:BST
DTSTART:20210328T010000
END:DAYLIGHT
BEGIN:STANDARD
TZOFFSETFROM:+0100
TZOFFSETTO:+0000
TZNAME:GMT
DTSTART:20211031T010000
END:STANDARD
END:VTIMEZONE
BEGIN:VEVENT
DTSTART;TZID=Europe/London:20200714T180000
DTEND;TZID=Europe/London:20200714T210000
DTSTAMP:20260423T105029
CREATED:20200708T122125Z
LAST-MODIFIED:20200821T115151Z
UID:8138-1594749600-1594760400@fundthefuture.web.ucu.org.uk
SUMMARY:Empower and educate
DESCRIPTION:We all agree there can be no return to normal post Covid-19\, but what kind of changes need to take place? What tools does education give us to build a better future? \nJoin us for this exciting online event where we explore what education is for; start to transform our knowledge and communities and build a society that works for everyone. \nWith Jo Grady\, UCU general secretary and Dave Ward\, CWU general secretary. \nSpecial guests: Billy Bragg\, Sonia Adesara\, Grace Blakeley\, Dalia Gebrial\, Charmaine Brown\, Ann Pettifor\, Faiza Shaheen\, and Gary Younge \nWatch back:  \n\n\n\nYou can also watch on Facebook \n\nRunning order:\n6.00-6.10: \nIntroduction by Jo Grady\, UCU general secretary \n6.10-7.00: \nBuilding for better: Covid-19\, BLM\, and the climate crisis  \nChair\, Vicky Blake\, UCU president \nGrace Blakeley\, Ann Pettifor\, Dalia Gebrial\, and Charmaine Brown: \nWe all agree there can be no more return to normal\, but what kind of changes need to take place? Not just to educate and re-skill our students and communities\, but to also build a better post-covid world for ourselves. What tools does education give us to build a better future? Education is not just something that happens in the classroom\, but the ideas we learn there can help. In this session we want to explore the role of activism informed by feminism\, economics\, urban geography\, and decolonisation have to transform our knowledge and transform our communities and society and build for a better future. \n7.00-7.30: \nA new deal for workers  \nDave Ward (CWU) and Jo Grady (UCU) \n7.30-8.00: \nJail Guitar Doors Music featuring Billy Bragg \nChair: Janet Farrer\, UCU president-elect \nBilly Bragg and Justin Boreland will discuss the importance of music in prisons and UCU’s joint initiative with Billy\, Jail Guitar Doors Music \n8.00-8.50: \nEmpower and Educate: delivering social justice \nChair: Jo Grady \nFaiza Shaheen\, Sonia Adesara and Gary Younge \nEducation develops people’s capacities\, challenges them\, communicates values\, and creates lifelong opportunities. It is a source of dignity and community. But the system we work and study within is eroding those ideals. Much like healthcare\, education is being turned into a dysfunctional consumer market\, and the people who provide it into a cost to be minimised. But students are not units of production for the workplace.  And education is not a product. In this session we will explore what is education for? Is the current system maximising social or even economic progress\, Who is the current system actually working for\, and what type of post 16 education system delivers social justice while educating the public to flourish\, and creating a working environment that is healthy for staff. \n8.50-9.00: Summary and close with Jo Grady.
URL:https://fundthefuture.web.ucu.org.uk/event/empower-and-educate/
LOCATION:Online
CATEGORIES:Open to all
ATTACH;FMTTYPE=image/png:https://fundthefuture.web.ucu.org.uk/files/2020/07/Empower-and-educate-1.png
END:VEVENT
END:VCALENDAR